BEGIN:VCALENDAR
VERSION:2.0
PRODID:-//Impact100 Greater Sacramento - ECPv6.15.17.1//NONSGML v1.0//EN
CALSCALE:GREGORIAN
METHOD:PUBLISH
X-ORIGINAL-URL:https://impact100greatersacramento.org
X-WR-CALDESC:Events for Impact100 Greater Sacramento
REFRESH-INTERVAL;VALUE=DURATION:PT1H
X-Robots-Tag:noindex
X-PUBLISHED-TTL:PT1H
BEGIN:VTIMEZONE
TZID:America/Denver
BEGIN:DAYLIGHT
TZOFFSETFROM:-0700
TZOFFSETTO:-0600
TZNAME:MDT
DTSTART:20220313T090000
END:DAYLIGHT
BEGIN:STANDARD
TZOFFSETFROM:-0600
TZOFFSETTO:-0700
TZNAME:MST
DTSTART:20221106T080000
END:STANDARD
BEGIN:DAYLIGHT
TZOFFSETFROM:-0700
TZOFFSETTO:-0600
TZNAME:MDT
DTSTART:20230312T090000
END:DAYLIGHT
BEGIN:STANDARD
TZOFFSETFROM:-0600
TZOFFSETTO:-0700
TZNAME:MST
DTSTART:20231105T080000
END:STANDARD
BEGIN:DAYLIGHT
TZOFFSETFROM:-0700
TZOFFSETTO:-0600
TZNAME:MDT
DTSTART:20240310T090000
END:DAYLIGHT
BEGIN:STANDARD
TZOFFSETFROM:-0600
TZOFFSETTO:-0700
TZNAME:MST
DTSTART:20241103T080000
END:STANDARD
BEGIN:DAYLIGHT
TZOFFSETFROM:-0700
TZOFFSETTO:-0600
TZNAME:MDT
DTSTART:20250309T090000
END:DAYLIGHT
BEGIN:STANDARD
TZOFFSETFROM:-0600
TZOFFSETTO:-0700
TZNAME:MST
DTSTART:20251102T080000
END:STANDARD
END:VTIMEZONE
BEGIN:VEVENT
DTSTART;TZID=America/Denver:20241029T173000
DTEND;TZID=America/Denver:20241029T190000
DTSTAMP:20260420T025941
CREATED:20241014T194813Z
LAST-MODIFIED:20241014T194813Z
UID:10000079-1730223000-1730228400@impact100greatersacramento.org
SUMMARY:I Make An Impact Party - October 29\, 2024
DESCRIPTION:“I Make an Impact” parties are a great way to socialize\, ask questions and find out how you can join us and make an impact in your community. If you are interested in attending – please email Paulette at: info@impact100greatersacramento.org \nThis party is in the Arden Arcade.  Do you want to attend a party but can’t make it to this event? Please email us and let us know.
URL:https://impact100greatersacramento.org/event/i-make-an-impact-party-october-29-2024/
ATTACH;FMTTYPE=image/png:https://impact100greatersacramento.org/wp-content/uploads/2023/08/I-make-an-impact.-together-we-make-a-difference.png
END:VEVENT
BEGIN:VEVENT
DTSTART;TZID=America/Denver:20230227T173000
DTEND;TZID=America/Denver:20230227T190000
DTSTAMP:20260420T025941
CREATED:20230208T143525Z
LAST-MODIFIED:20230218T215426Z
UID:10000003-1677519000-1677524400@impact100greatersacramento.org
SUMMARY:I Make an Impact Party
DESCRIPTION:Do you want to be one of our founding members? This is our final “I Make an Impact Party” of our inaugural year. Our deadline to accept new members for this cycle of giving closes tomorrow\, February 28. Join us and find out how you can make an impact in your community. Message us for details on this event info@impact100greatersacramento.org
URL:https://impact100greatersacramento.org/event/board-meeting-2/
ATTACH;FMTTYPE=image/jpeg:https://impact100greatersacramento.org/wp-content/uploads/2022/10/AdobeStock_222352451-scaled.jpeg
END:VEVENT
END:VCALENDAR